BEGIN:VCALENDAR
VERSION:2.0
PRODID:-//ChamberMaster//Event Calendar 2.0//EN
METHOD:PUBLISH
X-PUBLISHED-TTL:P3D
REFRESH-INTERVAL:P3D
CALSCALE:GREGORIAN
BEGIN:VEVENT
DTSTART:20260609T230000Z
DTEND:20260610T010000Z
X-MICROSOFT-CDO-ALLDAYEVENT:FALSE
SUMMARY:Tuesday Folk School: Open Mic Night
DESCRIPTION:Open Mic returns to Tuesday Folk School with an evening of music\, poetry\, and storytelling. Share a song\, a story\, or a poem in a relaxed and welcoming space\, or just come to listen. A nod to the open mics that once filled these Tuesdays\, all are welcome to take part.
X-ALT-DESC;FMTTYPE=text/html:<span style="font-family:palatino\,serif\; font-size:12pt">&nbsp\;Open Mic returns to Tuesday Folk School with an evening of music\, poetry\, and storytelling. Share a song\, a story\, or a poem in a relaxed and welcoming space\, or just come to listen. A nod to the open mics that once filled these Tuesdays\, all are welcome to take part.</span>
LOCATION:Farwell Hall Folklore Village 3210 County Road BB Dodgeville\, WI 53533
UID:e.3395.106150
SEQUENCE:3
DTSTAMP:20260426T012531Z
URL:https://www.mineralpoint.com/events/details/tuesday-folk-school-open-mic-night-106150
END:VEVENT

END:VCALENDAR
