BEGIN:VCALENDAR
VERSION:2.0
PRODID:-//ChamberMaster//Event Calendar 2.0//EN
METHOD:PUBLISH
X-PUBLISHED-TTL:P3D
REFRESH-INTERVAL:P3D
CALSCALE:GREGORIAN
BEGIN:VEVENT
DTSTART:20260512T230000Z
DTEND:20260513T010000Z
X-MICROSOFT-CDO-ALLDAYEVENT:FALSE
SUMMARY:Tuesday Folk School: Maker’s MeetUp
DESCRIPTION:Bring a project and connect with other creative makers during this informal Maker's MeetUp. Participants are invited to work on crafts\, share ideas\, and enjoy a relaxed evening of creativity together. Tuesday Folk School gatherings encourage community learning and creative exploration through a variety of folk-inspired activities.
X-ALT-DESC;FMTTYPE=text/html:<span style="background-color:transparent\; color:rgb(0\, 0\, 0)\; font-family:palatino\,serif\; font-size:12pt">Bring a project and connect with other creative makers during this informal Maker&rsquo\;s MeetUp. Participants are invited to work on crafts\, share ideas\, and enjoy a relaxed evening of creativity together. Tuesday Folk School gatherings encourage community learning and creative exploration through a variety of folk-inspired activities.</span>
LOCATION:Folklore Village\, 3210 County Road BB\, Dodgeville\, WI 53533
UID:e.3395.106116
SEQUENCE:3
DTSTAMP:20260426T011451Z
URL:https://www.mineralpoint.com/events/details/tuesday-folk-school-maker-s-meetup-106116
END:VEVENT

END:VCALENDAR
