BEGIN:VCALENDAR
VERSION:2.0
PRODID:-//ChamberMaster//Event Calendar 2.0//EN
METHOD:PUBLISH
X-PUBLISHED-TTL:P3D
REFRESH-INTERVAL:P3D
CALSCALE:GREGORIAN
BEGIN:VEVENT
DTSTART:20260423T163000Z
DTEND:20260423T173000Z
X-MICROSOFT-CDO-ALLDAYEVENT:FALSE
SUMMARY:Troubadour Thursday @ Wild Blue Yonder
DESCRIPTION:Enjoy the piano music of Joe Keyes as you savor a lunch sandwich\, indulge in fresh bakery treats\, or unwind with a latte. Wild Blue Yonder loves cheering on performing artists by offering them a relaxed\, welcoming stage where they can shine without the stress.\n\n\n\nMight like to be a troubadour? Contact Maggie at maggie@wildblueyondermp.com.
X-ALT-DESC;FMTTYPE=text/html:<p><span style="font-size:16px">Enjoy the piano music of Joe Keyes as you savor a lunch sandwich\, indulge in fresh bakery treats\, or unwind with a latte.&nbsp\;Wild Blue Yonder loves cheering on performing artists by offering them a relaxed\, welcoming stage where they can shine without the stress.<br />\n<br />\nMight like to be a troubadour? Contact Maggie at <a href="http://maggie@wildblueyondermp.com">maggie@wildblueyondermp.com</a>.</span></p>\n
LOCATION:Wild Blue Yonder Coffeehouse 215 High Street Mineral Point\, WI 53565 under the iconic "Pointer" dog
UID:e.3395.106193
SEQUENCE:3
DTSTAMP:20260420T195507Z
URL:https://www.mineralpoint.com/events/details/troubadour-thursday-wild-blue-yonder-04-23-2026-106193
END:VEVENT

END:VCALENDAR
