BEGIN:VCALENDAR
VERSION:2.0
PRODID:-//ChamberMaster//Event Calendar 2.0//EN
METHOD:PUBLISH
X-PUBLISHED-TTL:P3D
REFRESH-INTERVAL:P3D
CALSCALE:GREGORIAN
BEGIN:VEVENT
DTSTART:20260606T230000Z
DTEND:20260607T020000Z
X-MICROSOFT-CDO-ALLDAYEVENT:FALSE
SUMMARY:Schoolhouse Social
DESCRIPTION:Enjoy a community potluck followed by old-time dances and games in the Wakefield Schoolhouse. Musicians are welcome to join the informal Folklore Village Band. Please bring a dish to share and your own tableware.
X-ALT-DESC;FMTTYPE=text/html:<p><span style="background-color:transparent\; color:rgb(0\, 0\, 0)\; font-family:palatino\,serif\; font-size:12pt">Enjoy a community potluck followed by old-time dances and games in the Wakefield Schoolhouse. Musicians are welcome to join the informal Folklore Village Band. Please bring a dish to share and your own tableware.</span></p>\n
LOCATION:Wakefield Schoolhouse Folklore Village 3157 County Road BB Dodgeville\, WI 53533
UID:e.3395.106149
SEQUENCE:3
DTSTAMP:20260426T012622Z
URL:https://www.mineralpoint.com/events/details/schoolhouse-social-106149
END:VEVENT

END:VCALENDAR
