BEGIN:VCALENDAR
VERSION:2.0
PRODID:-//ChamberMaster//Event Calendar 2.0//EN
METHOD:PUBLISH
X-PUBLISHED-TTL:P3D
REFRESH-INTERVAL:P3D
CALSCALE:GREGORIAN
BEGIN:VEVENT
DTSTART:20240819T000000Z
DTEND:20240819T020000Z
X-MICROSOFT-CDO-ALLDAYEVENT:FALSE
SUMMARY:Open Mic Night
DESCRIPTION:The stage is open for you to share your talents! Join us on Sunday\, August 18 to perform music\, dance\, comedy\, read poetry\, or any talent you have. The night will run from 7:00 pm to 9:00 pm. Doors and sign-ups will open at 6:30 pm. We provide a sound system   monitors and microphones. Unfortunately\, we don't have any backline instruments or amps available\, but the house piano will be ready for you to use if needed. Performance time will be limited to two songs or about 5 minutes per person.\n\nPLEASE NOTE: sexist\, racist\, homophobic\, and other derogatory jokes/comments are not permitted\, and the MPOH reserves the right to stop any performance at any time if such behavior is displayed.\n\nThis is a free event. Audience members are very welcome! Concessions will be for sale.
X-ALT-DESC;FMTTYPE=text/html:<p>The stage is open for you to share your talents! Join us on&nbsp\;<strong>Sunday\, August 18</strong>&nbsp\;to perform music\, dance\, comedy\, read poetry\, or any talent you have. The night will run from 7:00 pm to 9:00 pm. Doors and sign-ups will open at 6:30 pm. We provide a sound system &mdash\; monitors and microphones. Unfortunately\, we don&rsquo\;t have any backline instruments or amps available\, but the house piano will be ready for you to use if needed. Performance time will be limited to two songs or about 5 minutes per person.</p>\n\n<p>PLEASE NOTE: sexist\, racist\, homophobic\, and other derogatory jokes/comments are not permitted\, and the MPOH reserves the right to stop any performance at any time if such behavior is displayed.</p>\n\n<p>This is a free event. Audience members are very welcome! Concessions will be for sale.</p>\n
LOCATION:Mineral Point Opera House 139 High St Mineral Point\, WI 53565
UID:e.3395.100482
SEQUENCE:3
DTSTAMP:20260421T104727Z
URL:https://www.mineralpoint.com/events/details/open-mic-night-08-18-2024-100482
END:VEVENT

END:VCALENDAR
