BEGIN:VCALENDAR
VERSION:2.0
PRODID:-//ChamberMaster//Event Calendar 2.0//EN
METHOD:PUBLISH
X-PUBLISHED-TTL:P3D
REFRESH-INTERVAL:P3D
CALSCALE:GREGORIAN
BEGIN:VEVENT
DTSTART:20260502T230000Z
DTEND:20260503T020000Z
X-MICROSOFT-CDO-ALLDAYEVENT:FALSE
SUMMARY:Maypole Social
DESCRIPTION:Folklore Village invites all ages to welcome spring with a joyful evening of English maypole dancing. The celebration begins with a community potluck at 6:00 p.m.\, followed by maypole decorating. Guests are encouraged to bring a potluck dish to share and fresh flowers to help adorn the maypole. Once the pole is decorated\, participants will learn simple\, family-friendly dances that weave colorful ribbon patterns around the maypole. Musicians are also welcome to join the informal volunteer Folklore Village Band in playing music for the dances.
X-ALT-DESC;FMTTYPE=text/html:<span style="font-family:palatino\,serif\; font-size:12pt">Folklore Village invites all ages to welcome spring with a joyful evening of English maypole dancing. The celebration begins with a community potluck at 6:00 p.m.\, followed by maypole decorating. Guests are encouraged to bring a potluck dish to share and fresh flowers to help adorn the maypole. Once the pole is decorated\, participants will learn simple\, family-friendly dances that weave colorful ribbon patterns around the maypole. Musicians are also welcome to join the informal volunteer Folklore Village Band in playing music for the dances.</span>
LOCATION:Folklore Village\, 3210 County Road BB\, Dodgeville\, WI 53533
UID:e.3395.106114
SEQUENCE:3
DTSTAMP:20260426T011351Z
URL:https://www.mineralpoint.com/events/details/maypole-social-106114
END:VEVENT

END:VCALENDAR
