BEGIN:VCALENDAR
VERSION:2.0
PRODID:-//ChamberMaster//Event Calendar 2.0//EN
METHOD:PUBLISH
X-PUBLISHED-TTL:P3D
REFRESH-INTERVAL:P3D
CALSCALE:GREGORIAN
BEGIN:VEVENT
DTSTART:20260601T000000Z
DTEND:20260601T020000Z
X-MICROSOFT-CDO-ALLDAYEVENT:FALSE
SUMMARY:Kristian Bugge & WB Reid in Concert
DESCRIPTION:Join us for an evening of music with Kristian Bugge & WB Reid\, a transatlantic duo of fiddle and guitar. Drawing from the rich Danish fiddle tradition\, their program features everything from lively polkas and jigs to lyrical waltzes and reels\, along with songs in both Danish and English.\n\nThough based on opposite sides of the Atlantic\, Bugge and Reid have crossed paths for years at festivals and jam sessions. After sharing the stage in 2025\, they've come together for a spring 2026 tour. Expect an engaging performance filled with musical depth\, storytelling\, and a sense of Danish "hygge."
X-ALT-DESC;FMTTYPE=text/html:<p><span style="background-color:transparent\; color:rgb(0\, 0\, 0)\; font-family:palatino\,serif\; font-size:12pt">Join us for an evening of music with Kristian Bugge &amp\; WB Reid\, a transatlantic duo of fiddle and guitar. Drawing from the rich Danish fiddle tradition\, their program features everything from lively polkas and jigs to lyrical waltzes and reels\, along with songs in both Danish and English.</span></p>\n\n<p><span style="background-color:transparent\; color:rgb(0\, 0\, 0)\; font-family:palatino\,serif\; font-size:12pt">Though based on opposite sides of the Atlantic\, Bugge and Reid have crossed paths for years at festivals and jam sessions. After sharing the stage in 2025\, they&rsquo\;ve come together for a spring 2026 tour. Expect an engaging performance filled with musical depth\, storytelling\, and a sense of Danish &ldquo\;hygge.&rdquo\;</span></p>\n\n<div>&nbsp\;</div>\n
LOCATION:Folklore Village 3210 County Road BB Dodgeville\, WI 53533
UID:e.3395.106118
SEQUENCE:3
DTSTAMP:20260426T011537Z
URL:https://www.mineralpoint.com/events/details/kristian-bugge-wb-reid-in-concert-106118
END:VEVENT

END:VCALENDAR
