BEGIN:VCALENDAR
VERSION:2.0
PRODID:-//ChamberMaster//Event Calendar 2.0//EN
METHOD:PUBLISH
X-PUBLISHED-TTL:P3D
REFRESH-INTERVAL:P3D
CALSCALE:GREGORIAN
BEGIN:VEVENT
DTSTART;VALUE=DATE:20201205
DTEND;VALUE=DATE:20210301
TRANSP:TRANSPARENT
X-MICROSOFT-CDO-ALLDAYEVENT:TRUE
SUMMARY:Kiwanis Winter Lights: Sharing Hope and Joy
DESCRIPTION:Visit Cornish Heritage Park in downtown Mineral Point to view messages of Hope and Joy in tree ornament decorations\, and even hang your own.
X-ALT-DESC;FMTTYPE=text/html:Visit Cornish Heritage Park in downtown Mineral Point to view messages of Hope and Joy in tree ornament decorations\, and even hang your own.
LOCATION:Cornish Heritage Park on High Street in Mineral Point
UID:e.3395.90011
SEQUENCE:3
DTSTAMP:20260422T230627Z
URL:https://www.mineralpoint.com/events/details/kiwanis-winter-lights-sharing-hope-and-joy-90011
END:VEVENT

END:VCALENDAR
