BEGIN:VCALENDAR
VERSION:2.0
PRODID:-//ChamberMaster//Event Calendar 2.0//EN
METHOD:PUBLISH
X-PUBLISHED-TTL:P3D
REFRESH-INTERVAL:P3D
CALSCALE:GREGORIAN
BEGIN:VEVENT
DTSTART;VALUE=DATE:20200704
DTEND;VALUE=DATE:20200705
TRANSP:TRANSPARENT
X-MICROSOFT-CDO-ALLDAYEVENT:TRUE
SUMMARY:July 4th Lunch in the Park
DESCRIPTION:We want everyone to stay safe right now during the coronavirus pandemic\, so our 2020 July 4 Lunch the Park will be contactless drive-thru pickup AND you can pre-order online!
X-ALT-DESC;FMTTYPE=text/html:<p><span style="font-size:14px\;"><span style="font-family: &quot\;Fira Sans&quot\;\, sans-serif\;">We&nbsp\;want everyone to stay safe right now during&nbsp\;the coronavirus pandemic\, so our 2020 July 4 Lunch the Park will be contactless drive-thru pickup <span style="color:#B22222\;"><strong>AND you can pre-order online!</strong></span></span></span></p>\n\n<p>&nbsp\;</p>\n\n<p>&nbsp\;</p>\n
LOCATION:Drive up to the tents and tables on Park Street\, at Water Tower Park
UID:e.3395.89563
SEQUENCE:3
DTSTAMP:20260421T093608Z
URL:https://www.mineralpoint.com/events/details/july-4th-lunch-in-the-park-07-04-2020-89563
END:VEVENT

END:VCALENDAR
