BEGIN:VCALENDAR
VERSION:2.0
PRODID:-//ChamberMaster//Event Calendar 2.0//EN
METHOD:PUBLISH
X-PUBLISHED-TTL:P3D
REFRESH-INTERVAL:P3D
CALSCALE:GREGORIAN
BEGIN:VEVENT
DTSTART;VALUE=DATE:20260515
DTEND;VALUE=DATE:20260518
TRANSP:TRANSPARENT
X-MICROSOFT-CDO-ALLDAYEVENT:TRUE
SUMMARY:Frank Lloyd Wright Trail Welcome Weekend
DESCRIPTION:Wisconsin's Frank Lloyd Wright Trail Sites invite you to our Welcome Weekend May 15 - May 17\, 2026! Whether you want to check off a site on your bucket list or immerse yourself in a full weekend of Wright's architectural wonders\, our doors will be open for you.
X-ALT-DESC;FMTTYPE=text/html:Wisconsin&rsquo\;s Frank Lloyd Wright Trail Sites invite you to our Welcome Weekend May 15 - May 17\, 2026! Whether you want to check off a site on your bucket list or immerse yourself in a full weekend of Wright&rsquo\;s architectural wonders\, our doors will be open for you.
LOCATION:
UID:e.3395.106210
SEQUENCE:3
DTSTAMP:20260423T113429Z
URL:https://www.mineralpoint.com/events/details/frank-lloyd-wright-trail-welcome-weekend-05-15-2026-106210
END:VEVENT

END:VCALENDAR
