BEGIN:VCALENDAR
VERSION:2.0
PRODID:-//ChamberMaster//Event Calendar 2.0//EN
METHOD:PUBLISH
X-PUBLISHED-TTL:P3D
REFRESH-INTERVAL:P3D
CALSCALE:GREGORIAN
BEGIN:VEVENT
DTSTART:20260509T000000Z
DTEND:20260510T180000Z
X-MICROSOFT-CDO-ALLDAYEVENT:FALSE
SUMMARY:English Country Dance & Music Weekend
DESCRIPTION:Folklore Village welcomes dancers and musicians for a weekend devoted to English Country Dance and music. The festival features Bare Necessities & Friends with Jacqueline Schwab\, Earl Gaddis\, Daniel Beerbohm\, and Cecile Leroy\, with dance calling by Joanna Reiner Wilkinson. The weekend begins Friday evening with a community dance. Saturday includes workshops\, shared meals\, and an evening concert and dance. The festival concludes Sunday with morning workshops and lunch. Participants of many experience levels gather to enjoy beautiful dances\, traditional music\, and the welcoming community atmosphere of Folklore Village festivals.
X-ALT-DESC;FMTTYPE=text/html:<span style="background-color:transparent\; color:rgb(0\, 0\, 0)\; font-family:palatino\,serif\; font-size:12pt">Folklore Village welcomes dancers and musicians for a weekend devoted to English Country Dance and music. The festival features Bare Necessities &amp\; Friends with Jacqueline Schwab\, Earl Gaddis\, Daniel Beerbohm\, and Cecile Leroy\, with dance calling by Joanna Reiner Wilkinson. The weekend begins Friday evening with a community dance. Saturday includes workshops\, shared meals\, and an evening concert and dance. The festival concludes Sunday with morning workshops and lunch. Participants of many experience levels gather to enjoy beautiful dances\, traditional music\, and the welcoming community atmosphere of Folklore Village festivals.</span>
LOCATION:Location: Folklore Village\, 3210 County Road BB\, Dodgeville\, WI 53533
UID:e.3395.106115
SEQUENCE:3
DTSTAMP:20260426T011700Z
URL:https://www.mineralpoint.com/events/details/english-country-dance-music-weekend-05-08-2026-106115
END:VEVENT

END:VCALENDAR
