BEGIN:VCALENDAR
VERSION:2.0
PRODID:-//ChamberMaster//Event Calendar 2.0//EN
METHOD:PUBLISH
X-PUBLISHED-TTL:P3D
REFRESH-INTERVAL:P3D
CALSCALE:GREGORIAN
BEGIN:VEVENT
DTSTART;VALUE=DATE:20221103
DTEND;VALUE=DATE:20221107
TRANSP:TRANSPARENT
X-MICROSOFT-CDO-ALLDAYEVENT:TRUE
SUMMARY:2022 Driftless Film Festival
DESCRIPTION:The 2022 Driftless Film Festival will showcase independent filmmaking with an emphasis on the creative energy of southwest Wisconsin. The festival promises to bring a unique cinematic experience to the Mineral Point Opera House for its 12th season.\n\nThis year's festival will run from Thursday\, November 3 through Sunday\, November 6. Festival passes and tickets to individual screenings will be available via Eventbrite.
X-ALT-DESC;FMTTYPE=text/html:<p>The 2022 Driftless Film Festival will showcase independent filmmaking with an emphasis on the creative energy of southwest Wisconsin. The festival promises to bring a unique cinematic experience to the Mineral Point Opera House for its 12th season.</p>\n\n<p>This year&rsquo\;s festival will run from&nbsp\;<strong>Thursday\, November 3 through Sunday\, November 6.</strong>&nbsp\;Festival passes and tickets to individual screenings will be available via Eventbrite.</p>\n
LOCATION:The Mineral Point Opera House 139 High St Mineral Point\, WI 53565
UID:e.3395.92825
SEQUENCE:3
DTSTAMP:20260419T140157Z
URL:https://www.mineralpoint.com/events/details/2022-driftless-film-festival-92825
END:VEVENT

END:VCALENDAR
